BEGIN:VCALENDAR
VERSION:2.0
CALSCALE:GREGORIAN
PRODID:-//Diputació de Barcelona//DibaCMS//EN
BEGIN:VEVENT
UID:6179
DTSTAMP:20260421T161107
DTSTART:20130617T000000
DTEND:20140617T000000
SUMMARY:Quatre gols d'Antonio García en una nova victòria de la selecció espanyola d'handbol
LOCATION:
METHOD:PUBLISH
X-WR-CALNAME:llagosta@llagosta.cat
X-WR-TIMEZONE:Europe/Madrid
DESCRIPTION:El llagostenc Antonio García Robledo va marcar ahir quatre gols en el partit que la selecció espanyola d'handbol va guanyar a Suïssa per 29 a 16 corresponent a la fase de classificació per al Campionat d'Europa de Dinamarca de l'any que ve. L'enfrontament va tenir lloc a Lleó.
URI:https://www.llagosta.cat/actualitat/noticies/quatre-gols-dantonio-garcia-en-una-nova-victoria-de-la-seleccio-espanyola-dhandbol.html
CLASS:PUBLIC
END:VEVENT
END:VCALENDAR
