BEGIN:VCALENDAR
VERSION:2.0
CALSCALE:GREGORIAN
PRODID:-//Diputació de Barcelona//DibaCMS//EN
BEGIN:VEVENT
UID:6178
DTSTAMP:20260422T080132
DTSTART:20130617T000000
DTEND:20140617T000000
SUMMARY:Rems considera que el nou local els permetrà millorar la seva acció solidària
LOCATION:
METHOD:PUBLISH
X-WR-CALNAME:llagosta@llagosta.cat
X-WR-TIMEZONE:Europe/Madrid
DESCRIPTION:L'Associació de Voluntariat Social Rems va presentar divendres a la tarda la seva nova seu, situada al número 2 de la plaça de Pere IV. L'entitat va fer una jornada de Portes Obertes per ensenyar a la població l'espai des d'on realitzarà la seva acció solidària. L'entrada al local es fa per l'avinguda del Primer de Maig.
URI:https://www.llagosta.cat/actualitat/noticies/rems-considera-que-el-nou-local-els-permetra-millorar-la-seva-accio-solidaria.html
CLASS:PUBLIC
END:VEVENT
END:VCALENDAR
