BEGIN:VCALENDAR
VERSION:2.0
CALSCALE:GREGORIAN
PRODID:-//Diputació de Barcelona//DibaCMS//EN
BEGIN:VEVENT
UID:6176
DTSTAMP:20260422T000215
DTSTART:20130614T000000
DTEND:20140614T000000
SUMMARY:La Biblioteca finalitza amb un balanç positiu les activitats adreçades als escolars
LOCATION:
METHOD:PUBLISH
X-WR-CALNAME:llagosta@llagosta.cat
X-WR-TIMEZONE:Europe/Madrid
DESCRIPTION:La Biblioteca Municipal de la Llagosta ha fet un balanç positiu de les activitats de divendres al matí adreçades als escolars de la nostra localitat. Aquest curs, han posat en marxa una nova experiència, que ha comptat amb la col·laboració de les alumnes del Taller d'escriptura creativa. Els estudiants de l'Institut Balmes han tancat el curs.
URI:https://www.llagosta.cat/actualitat/noticies/la-biblioteca-finalitza-amb-un-balanc-positiu-les-activitats-adrecades-als-escolars.html
CLASS:PUBLIC
END:VEVENT
END:VCALENDAR
