BEGIN:VCALENDAR
VERSION:2.0
CALSCALE:GREGORIAN
PRODID:-//Diputació de Barcelona//DibaCMS//EN
BEGIN:VEVENT
UID:6175
DTSTAMP:20260421T122658
DTSTART:20130614T000000
DTEND:20140614T000000
SUMMARY:La 2a Setmana del Teatre finalitza amb Berto Romero i la Mostra Teatral 2.0
LOCATION:
METHOD:PUBLISH
X-WR-CALNAME:llagosta@llagosta.cat
X-WR-TIMEZONE:Europe/Madrid
DESCRIPTION:Aquest cap de setmana se celebren els darrers actes de la segona Setmana del Teatre de la Llagosta. L'obra Berto Romero sigue con nosotros i la representació de la Mostra teatral 2.0, La Llagosta, el Poble, seran els actes centrals de dissabte i diumenge.
URI:https://www.llagosta.cat/actualitat/noticies/la-2a-setmana-del-teatre-finalitza-amb-berto-romero-i-la-mostra-teatral-20.html
CLASS:PUBLIC
END:VEVENT
END:VCALENDAR
