BEGIN:VCALENDAR
VERSION:2.0
CALSCALE:GREGORIAN
PRODID:-//Diputació de Barcelona//DibaCMS//EN
BEGIN:VEVENT
UID:6173
DTSTAMP:20260421T172944
DTSTART:20130613T000000
DTEND:20140613T000000
SUMMARY:El Racó d'Esplai Sant Josep encara té places per a les colònies que faran al Ripollès
LOCATION:
METHOD:PUBLISH
X-WR-CALNAME:llagosta@llagosta.cat
X-WR-TIMEZONE:Europe/Madrid
DESCRIPTION:El Racó d'Esplai Sant Josep de la Llagosta marxarà aquest any de colònies a Planoles, a la comarca del Ripollès. Les colònies es faran del 7 al 14 de juliol juntament amb l'Esplai Arc Iris, de Barcelona.
URI:https://www.llagosta.cat/actualitat/noticies/el-raco-desplai-sant-josep-encara-te-places-per-a-les-colonies-que-faran-al-ripolles.html
CLASS:PUBLIC
END:VEVENT
END:VCALENDAR
