BEGIN:VCALENDAR
VERSION:2.0
CALSCALE:GREGORIAN
PRODID:-//Diputació de Barcelona//DibaCMS//EN
BEGIN:VEVENT
UID:6172
DTSTAMP:20260422T141703
DTSTART:20130613T000000
DTEND:20140613T000000
SUMMARY:El 29 de juny se celebrarà a la Llagosta la Fira de Comerç a l'av. de l'Onze de Setembre
LOCATION:
METHOD:PUBLISH
X-WR-CALNAME:llagosta@llagosta.cat
X-WR-TIMEZONE:Europe/Madrid
DESCRIPTION:La Llagosta tornarà a tenir una fira de comerciants. L'Ajuntament de la nostra localitat promou, juntament amb l'Associació de Comerciants (ACIS) i la dels paradistes del Mercat Municipal, la Fira de Comerç, que se celebrarà el 29 de juny a la tarda.

URI:https://www.llagosta.cat/actualitat/noticies/el-29-de-juny-se-celebrara-a-la-llagosta-la-fira-de-comerc-a-lav-de-lonze-de-setembre.html
CLASS:PUBLIC
END:VEVENT
END:VCALENDAR
