BEGIN:VCALENDAR
VERSION:2.0
CALSCALE:GREGORIAN
PRODID:-//Diputació de Barcelona//DibaCMS//EN
BEGIN:VEVENT
UID:6169
DTSTAMP:20260421T140404
DTSTART:20130612T000000
DTEND:20140612T000000
SUMMARY:Les passejades per a la gent gran acaben amb una sortida a Vilanova del Camí
LOCATION:
METHOD:PUBLISH
X-WR-CALNAME:llagosta@llagosta.cat
X-WR-TIMEZONE:Europe/Madrid
DESCRIPTION:Aquest dijous tindrà lloc la cloenda del programa Esport per a tothom, passejades per a la gent gran. La sortida es farà a Vilanova del Camí. L'excursió estava prevista per al passat 23 de maig, però es va suspendre a causa del mal temps.
URI:https://www.llagosta.cat/actualitat/noticies/les-passejades-per-a-la-gent-gran-acaben-amb-una-sortida-a-vilanova-del-cami.html
CLASS:PUBLIC
END:VEVENT
END:VCALENDAR
