BEGIN:VCALENDAR
VERSION:2.0
CALSCALE:GREGORIAN
PRODID:-//Diputació de Barcelona//DibaCMS//EN
BEGIN:VEVENT
UID:6168
DTSTAMP:20260421T220759
DTSTART:20130612T000000
DTEND:20140612T000000
SUMMARY:Demà, acte de cloenda de la segona fase del projecte Suem la samarreta
LOCATION:
METHOD:PUBLISH
X-WR-CALNAME:llagosta@llagosta.cat
X-WR-TIMEZONE:Europe/Madrid
DESCRIPTION:Un grup d'onze emprenedors presentaran demà dijous a les 19 hores a la Sala de Plens de l'Ajuntament de la Llagosta els projectes que han desenvolupat durant les últimes setmanes dins del programa Suem la samarreta i ens mullem contra l'atur. Aquests projectes formen part de la segona fase del Suem la samarreta, que consisteix a ajudar a la creació d'empreses del sector de les activitats físiques i esportives saludables.
URI:https://www.llagosta.cat/actualitat/noticies/dema-acte-de-cloenda-de-la-segona-fase-del-projecte-suem-la-samarreta.html
CLASS:PUBLIC
END:VEVENT
END:VCALENDAR
