BEGIN:VCALENDAR
VERSION:2.0
CALSCALE:GREGORIAN
PRODID:-//Diputació de Barcelona//DibaCMS//EN
BEGIN:VEVENT
UID:6167
DTSTAMP:20260422T013441
DTSTART:20130612T000000
DTEND:20140612T000000
SUMMARY:El Viejas Glorias perd al camp del Sabadell Nord per 4 a 2 en el penúltim partit de la lliga
LOCATION:
METHOD:PUBLISH
X-WR-CALNAME:llagosta@llagosta.cat
X-WR-TIMEZONE:Europe/Madrid
DESCRIPTION:El Club Deportivo Viejas Glorias va caure el cap de setmana al camp del Sabadell Nord per 4 a 2. Els llagostencs no van tenir cap opció davant d'un equip que aspira a aconseguir el títol de lliga en la darrera jornada.
URI:https://www.llagosta.cat/actualitat/noticies/el-viejas-glorias-perd-al-camp-del-sabadell-nord-per-4-a-2-en-el-penultim-partit-de-la-lliga.html
CLASS:PUBLIC
END:VEVENT
END:VCALENDAR
