BEGIN:VCALENDAR
VERSION:2.0
CALSCALE:GREGORIAN
PRODID:-//Diputació de Barcelona//DibaCMS//EN
BEGIN:VEVENT
UID:6166
DTSTAMP:20260422T235934
DTSTART:20130612T000000
DTEND:20140612T000000
SUMMARY:La Room ha aconseguit aquesta temporada un quart lloc al Campionat d'Espanya de Hip Hop
LOCATION:
METHOD:PUBLISH
X-WR-CALNAME:llagosta@llagosta.cat
X-WR-TIMEZONE:Europe/Madrid
DESCRIPTION:L'Escola de dansa La Room ha fet un balanç positiu d'aquesta temporada. Els dos grups del centre que competeixen a diferents campionats han fet un bon paper aquest any. Destaca el quart lloc aconseguit al Campionat d'Espanya de Hip Hop Urban Display.
URI:https://www.llagosta.cat/actualitat/noticies/la-room-ha-aconseguit-aquesta-temporada-un-quart-lloc-al-campionat-despanya-de-hip-hop.html
CLASS:PUBLIC
END:VEVENT
END:VCALENDAR
