BEGIN:VCALENDAR
VERSION:2.0
CALSCALE:GREGORIAN
PRODID:-//Diputació de Barcelona//DibaCMS//EN
BEGIN:VEVENT
UID:6165
DTSTAMP:20260422T085800
DTSTART:20130611T000000
DTEND:20140611T000000
SUMMARY:Onze estudiants de l'Institut Marina ja han començat les proves de selectivitat
LOCATION:
METHOD:PUBLISH
X-WR-CALNAME:llagosta@llagosta.cat
X-WR-TIMEZONE:Europe/Madrid
DESCRIPTION:Un total d'onze alumnes de l’Institut Marina de la Llagosta han començat avui les proves de selectivitat. Com és habitual, els estudiants de la nostra localitat fan els exàmens a la Universitat Autònoma, a Bellaterra.
URI:https://www.llagosta.cat/actualitat/noticies/onze-estudiants-de-linstitut-marina-ja-han-comencat-les-proves-de-selectivitat.html
CLASS:PUBLIC
END:VEVENT
END:VCALENDAR
