BEGIN:VCALENDAR
VERSION:2.0
CALSCALE:GREGORIAN
PRODID:-//Diputació de Barcelona//DibaCMS//EN
BEGIN:VEVENT
UID:6164
DTSTAMP:20260423T111405
DTSTART:20130611T000000
DTEND:20140611T000000
SUMMARY:La coral Oxalaires i la contacontes Puri Ortega interpretent demà El nen enamorat de la Lluna
LOCATION:
METHOD:PUBLISH
X-WR-CALNAME:llagosta@llagosta.cat
X-WR-TIMEZONE:Europe/Madrid
DESCRIPTION:El Centre Cultural acollirà demà la cantata El nen enamorat de la Lluna. La interpretació d'aquest conte musicat anirà a càrrec de la coral d'infants Oxaliares, de l'Escola Municipal de Música, i de la contacontes Puri Ortega. Aquesta proposta és una edició especial de l'Hora del conte de la Biblioteca de la Llagosta. 
URI:https://www.llagosta.cat/actualitat/noticies/la-coral-oxalaires-i-la-contacontes-puri-ortega-interpretent-dema-el-nen-enamorat-de-la-lluna.html
CLASS:PUBLIC
END:VEVENT
END:VCALENDAR
