BEGIN:VCALENDAR
VERSION:2.0
CALSCALE:GREGORIAN
PRODID:-//Diputació de Barcelona//DibaCMS//EN
BEGIN:VEVENT
UID:6162
DTSTAMP:20260421T113426
DTSTART:20130611T000000
DTEND:20140611T000000
SUMMARY:Els alumnes de l'Escola de Pintura de la Casa del Pueblo exposen al Centre Cultural
LOCATION:
METHOD:PUBLISH
X-WR-CALNAME:llagosta@llagosta.cat
X-WR-TIMEZONE:Europe/Madrid
DESCRIPTION:El Centre Cultural acull fins al 20 de juny una exposició dels alumnes de l'Escola de Pintura de la Casa del Pueblo de la Llagosta. La mostra està formada bàsicament per olis, però també alguns dibuixos de les 35 persones que han fet pintura aquest any en aquest centre. 
URI:https://www.llagosta.cat/actualitat/noticies/els-alumnes-de-lescola-de-pintura-de-la-casa-del-pueblo-exposen-al-centre-cultural.html
CLASS:PUBLIC
END:VEVENT
END:VCALENDAR
