BEGIN:VCALENDAR
VERSION:2.0
CALSCALE:GREGORIAN
PRODID:-//Diputació de Barcelona//DibaCMS//EN
BEGIN:VEVENT
UID:6161
DTSTAMP:20260421T234234
DTSTART:20130611T000000
DTEND:20140611T000000
SUMMARY:Balanç positiu de la desena edició del Memorial Joan Gelabert de futbol
LOCATION:
METHOD:PUBLISH
X-WR-CALNAME:llagosta@llagosta.cat
X-WR-TIMEZONE:Europe/Madrid
DESCRIPTION:El Club Esportiu la Llagosta ha fet un balanç positiu del desè Memorial de Futbol Joan Gelabert que es va disputar el cap de setmana passat. La pluja va obligar a suspendre dissabte els partits dels equips juvenil, infantil i de l'escola, però diumenge es va viure una gran jornada al Camp Municipal de Futbol Joan Gelabert amb molt de públic.
URI:https://www.llagosta.cat/actualitat/noticies/balanc-positiu-de-la-desena-edicio-del-memorial-joan-gelabert-de-futbol.html
CLASS:PUBLIC
END:VEVENT
END:VCALENDAR
