BEGIN:VCALENDAR
VERSION:2.0
CALSCALE:GREGORIAN
PRODID:-//Diputació de Barcelona//DibaCMS//EN
BEGIN:VEVENT
UID:6160
DTSTAMP:20260422T141927
DTSTART:20130610T000000
DTEND:20140610T000000
SUMMARY:La jornada <em>Fem dissabte! Neteja del riu Besòs</em> s'ajorna a causa de la pluja
LOCATION:
METHOD:PUBLISH
X-WR-CALNAME:llagosta@llagosta.cat
X-WR-TIMEZONE:Europe/Madrid
DESCRIPTION:La pluja de dissabte al matí va impedir que es realitzés a la Llagosta la jornada de Fem dissabte! Neteja del riu Besòs. Ara, l'Ajuntament i  l'Associació Hàbitats, l'entitat promotora de la iniciativa, buscaran una nova data per fer aquesta activitat.
URI:https://www.llagosta.cat/actualitat/noticies/la-jornada-emfem-dissabte-neteja-del-riu-besosem-sajorna-a-causa-de-la-pluja.html
CLASS:PUBLIC
END:VEVENT
END:VCALENDAR
