BEGIN:VCALENDAR
VERSION:2.0
CALSCALE:GREGORIAN
PRODID:-//Diputació de Barcelona//DibaCMS//EN
BEGIN:VEVENT
UID:6159
DTSTAMP:20260422T074138
DTSTART:20130610T000000
DTEND:20140610T000000
SUMMARY:El 08CENTVINT es va presentar públicament divendres a la Sala de plens de l'Ajuntament
LOCATION:
METHOD:PUBLISH
X-WR-CALNAME:llagosta@llagosta.cat
X-WR-TIMEZONE:Europe/Madrid
DESCRIPTION:Divendres es va presentar el nou informatiu 08CENTVINT. L'acte es va fer a la Sala de plens de l'Ajuntament. La nova capçalera substitueix al Butlletí d'Informació Municipal, editat fins el mes passat.

URI:https://www.llagosta.cat/actualitat/noticies/el-08centvint-es-va-presentar-publicament-divendres-a-la-sala-de-plens-de-lajuntament.html
CLASS:PUBLIC
END:VEVENT
END:VCALENDAR
