BEGIN:VCALENDAR
VERSION:2.0
CALSCALE:GREGORIAN
PRODID:-//Diputació de Barcelona//DibaCMS//EN
BEGIN:VEVENT
UID:6157
DTSTAMP:20260422T015205
DTSTART:20130610T000000
DTEND:20140610T000000
SUMMARY:Antonio Peña guanya la trentena edició del Concurs de Cante Jondo Ciutat de la Llagosta
LOCATION:
METHOD:PUBLISH
X-WR-CALNAME:llagosta@llagosta.cat
X-WR-TIMEZONE:Europe/Madrid
DESCRIPTION:Antonio Peña es va proclamar dissabte guanyador del 30è Concurs de Cante Jondo Ciutat de la Llagosta, organitzat per la Casa de Andalucía. Aquesta és la quarta vegada que Peña aconsegueix el triomf en aquest certamen. El segon premi va ser per a Juan Manuel Caro; el tercer, per a David Coronel, i el quart, per a Raquel Expósito.
URI:https://www.llagosta.cat/actualitat/noticies/antonio-pena-guanya-la-trentena-edicio-del-concurs-de-cante-jondo-ciutat-de-la-llagosta.html
CLASS:PUBLIC
END:VEVENT
END:VCALENDAR
