BEGIN:VCALENDAR
VERSION:2.0
CALSCALE:GREGORIAN
PRODID:-//Diputació de Barcelona//DibaCMS//EN
BEGIN:VEVENT
UID:6154
DTSTAMP:20260421T120002
DTSTART:20130607T000000
DTEND:20140607T000000
SUMMARY:El Centre Cultural acollirà la final i el lliurament de premis del Concurs de Cante Jondo
LOCATION:
METHOD:PUBLISH
X-WR-CALNAME:llagosta@llagosta.cat
X-WR-TIMEZONE:Europe/Madrid
DESCRIPTION:Juan Manuel Caro, Raquel Expósito, David Coronel i Antonio Peña són els finalistes del 30è Concurs de Cante Jondo Ciutat de la Llagosta, organitzat per la Casa de Andalucía. Aquest dissabte, a partir de les 19 h, el Centre Cultural acollirà la final del certamen.
URI:https://www.llagosta.cat/actualitat/noticies/el-centre-cultural-acollira-la-final-i-el-lliurament-de-premis-del-concurs-de-cante-jondo.html
CLASS:PUBLIC
END:VEVENT
END:VCALENDAR
