BEGIN:VCALENDAR
VERSION:2.0
CALSCALE:GREGORIAN
PRODID:-//Diputació de Barcelona//DibaCMS//EN
BEGIN:VEVENT
UID:6153
DTSTAMP:20260421T130904
DTSTART:20130607T000000
DTEND:20140607T000000
SUMMARY:Dimiteixen tots els membres de l'oposició del Consell d'Administració de l'empresa municipal
LOCATION:
METHOD:PUBLISH
X-WR-CALNAME:llagosta@llagosta.cat
X-WR-TIMEZONE:Europe/Madrid
DESCRIPTION:Tots els representants dels grups de l'oposició de l'Ajuntament de la Llagosta al Consell d'Administració de l'empresa pública Gestió Municipal de Sòl i Patrimoni han presentat la seva dimissió de forma conjunta per la negativa dels responsables d'aquesta firma a facilitar-los la informació econòmica de l'empresa. Així ho assegura el Partit dels Socialistes de la Llagosta en un comunicat.
URI:https://www.llagosta.cat/actualitat/noticies/dimiteixen-tots-els-membres-de-loposicio-del-consell-dadministracio-de-lempresa-municipal.html
CLASS:PUBLIC
END:VEVENT
END:VCALENDAR
