BEGIN:VCALENDAR
VERSION:2.0
CALSCALE:GREGORIAN
PRODID:-//Diputació de Barcelona//DibaCMS//EN
BEGIN:VEVENT
UID:6152
DTSTAMP:20260421T143703
DTSTART:20130607T000000
DTEND:20140607T000000
SUMMARY:Des d'avui i fins al 21 de juny es pot votar per escollir el cartell de la Festa Major 2013
LOCATION:
METHOD:PUBLISH
X-WR-CALNAME:llagosta@llagosta.cat
X-WR-TIMEZONE:Europe/Madrid
DESCRIPTION:Els ciutadans poden votar des d'avui per escollir l'obra guanyadora del Concurs de cartells de la Festa Major 2013 de la Llagosta entre els tres dissenys finalistes. Com en anys anteriors, el cartell guanyador s'escollirà per votació popular tant a través de la butlleta que es publica al 8CENTVINT, el nou informatiu municipal, com a aquest web.
URI:https://www.llagosta.cat/actualitat/noticies/des-davui-i-fins-al-21-de-juny-es-pot-votar-per-escollir-el-cartell-de-la-festa-major-2013.html
CLASS:PUBLIC
END:VEVENT
END:VCALENDAR
