BEGIN:VCALENDAR
VERSION:2.0
CALSCALE:GREGORIAN
PRODID:-//Diputació de Barcelona//DibaCMS//EN
BEGIN:VEVENT
UID:6151
DTSTAMP:20260422T013851
DTSTART:20130607T000000
DTEND:20140607T000000
SUMMARY:La colla infantil del Grup de Ball de Gitanes de la Llagosta actua diumenge a Santa Perpètua
LOCATION:
METHOD:PUBLISH
X-WR-CALNAME:llagosta@llagosta.cat
X-WR-TIMEZONE:Europe/Madrid
DESCRIPTION:La colla infantil del Grup de Ball de Gitanes de la Llagosta participarà diumenge en la Ballada de menuts que tindrà lloc a Santa Perpètua. Les actuacions començaran a dos quarts de dotze del migdia a la plaça de l'Església. 
URI:https://www.llagosta.cat/actualitat/noticies/la-colla-infantil-del-grup-de-ball-de-gitanes-de-la-llagosta-actua-diumenge-a-santa-perpetua.html
CLASS:PUBLIC
END:VEVENT
END:VCALENDAR
