BEGIN:VCALENDAR
VERSION:2.0
CALSCALE:GREGORIAN
PRODID:-//Diputació de Barcelona//DibaCMS//EN
BEGIN:VEVENT
UID:6150
DTSTAMP:20260423T021100
DTSTART:20130606T000000
DTEND:20140606T000000
SUMMARY:Demà sortirà al carrer 08CENTVINT, la publicació que substitueix el Butlletí d'informació municipal
LOCATION:
METHOD:PUBLISH
X-WR-CALNAME:llagosta@llagosta.cat
X-WR-TIMEZONE:Europe/Madrid
DESCRIPTION:L'Ajuntament de la Llagosta publicarà i distribuirà demà, 7 de juny, un nou informatiu local sota la capçalera 08CENTVINT, que substituirà l'actual Butlletí d'informació municipal. L'Ajuntament de la Llagosta presentarà demà la nova publicació, a les 19 hores, a la Sala de Plens de l'Ajuntament de la Llagosta.
URI:https://www.llagosta.cat/actualitat/noticies/dema-sortira-al-carrer-08centvint-la-publicacio-que-substitueix-el-butlleti-dinformacio-municipal.html
CLASS:PUBLIC
END:VEVENT
END:VCALENDAR
