BEGIN:VCALENDAR
VERSION:2.0
CALSCALE:GREGORIAN
PRODID:-//Diputació de Barcelona//DibaCMS//EN
BEGIN:VEVENT
UID:6149
DTSTAMP:20260422T132631
DTSTART:20130606T000000
DTEND:20140606T000000
SUMMARY:La segona Setmana del Teatre de la Llagosta comença demà amb un talller de Teatre social
LOCATION:
METHOD:PUBLISH
X-WR-CALNAME:llagosta@llagosta.cat
X-WR-TIMEZONE:Europe/Madrid
DESCRIPTION:Demà comença la Setmana del Teatre de la Llagosta. Les activitats es desenvoluparan fins el 16 de juny. L'Ajuntament de la Llagosta, Nanocosmos Teatre i el grup de teatre TELL organitzen la segona edició d'aquesta proposta cultural. Les activitats programades es desenvoluparan a diferents espais i comptaran amb la col·laboració del Grup de teatre del Casal d'Avis, el grup Amics de la Cultura, el grup TELL júnior i el grup JUMP.
URI:https://www.llagosta.cat/actualitat/noticies/la-segona-setmana-del-teatre-de-la-llagosta-comenca-dema-amb-un-talller-de-teatre-social.html
CLASS:PUBLIC
END:VEVENT
END:VCALENDAR
