BEGIN:VCALENDAR
VERSION:2.0
CALSCALE:GREGORIAN
PRODID:-//Diputació de Barcelona//DibaCMS//EN
BEGIN:VEVENT
UID:6147
DTSTAMP:20260422T013032
DTSTART:20130605T000000
DTEND:20140605T000000
SUMMARY:Out of water protagonitzarà el primer Concert a la fresca de La Llagosta + Activa
LOCATION:
METHOD:PUBLISH
X-WR-CALNAME:llagosta@llagosta.cat
X-WR-TIMEZONE:Europe/Madrid
DESCRIPTION:La Llagosta + Activa organitza demà el primer Concert a la fresca del programa Estiu 2013. El recital estarà protagonitzat pel grup Out of water i es farà a la plaça de Pere IV.

URI:https://www.llagosta.cat/actualitat/noticies/out-of-water-protagonitzara-el-primer-concert-a-la-fresca-de-la-llagosta--activa.html
CLASS:PUBLIC
END:VEVENT
END:VCALENDAR
