BEGIN:VCALENDAR
VERSION:2.0
CALSCALE:GREGORIAN
PRODID:-//Diputació de Barcelona//DibaCMS//EN
BEGIN:VEVENT
UID:6146
DTSTAMP:20260422T060619
DTSTART:20130605T000000
DTEND:20140605T000000
SUMMARY:Obert el període d'inscripcions per al torneig de 24 hores organitzat pel FS Unión Llagostense
LOCATION:
METHOD:PUBLISH
X-WR-CALNAME:llagosta@llagosta.cat
X-WR-TIMEZONE:Europe/Madrid
DESCRIPTION:El Fútbol Sala Unión Llagostense ha obert el període d'inscripcions per participar en el torneig de 24 hores de futbol sala que organitzarà els dies 6 i 7 de juliol al Poliesportiu Riera Seca. Els interessats s'han d'adreçar al Complex Esportiu Municipal El Turó de dilluns a divendres de sis a vuit de la tarda o trucar al telèfon 637 236 925.
URI:https://www.llagosta.cat/actualitat/noticies/obert-el-periode-dinscripcions-per-al-torneig-de-24-hores-organitzat-pel-fs-union-llagostense.html
CLASS:PUBLIC
END:VEVENT
END:VCALENDAR
