BEGIN:VCALENDAR
VERSION:2.0
CALSCALE:GREGORIAN
PRODID:-//Diputació de Barcelona//DibaCMS//EN
BEGIN:VEVENT
UID:6144
DTSTAMP:20260422T033506
DTSTART:20130604T000000
DTEND:20140604T000000
SUMMARY:El PSC lliurarà demà a REMS els 398 euros que va recaptar durant la Festa de la Rosa
LOCATION:
METHOD:PUBLISH
X-WR-CALNAME:llagosta@llagosta.cat
X-WR-TIMEZONE:Europe/Madrid
DESCRIPTION:Demà dimecres, el Partit dels Socialistes de la Llagosta lliurarà a l'entitat local REMS els 398 euros que va recaptar durant la Festa de la Rosa celebrada el 25 de maig. REMS és una entitat sense ànim de lucre que gestiona el Banc d'Aliments de la Llagosta. Amb els 398 euros es pretén ajudar a REMS a aprovisionar-se d'aliments frescos, que es destinaran a famílies necessitades de la nostra localitat. 
URI:https://www.llagosta.cat/actualitat/noticies/el-psc-lliurara-dema-a-rems-els-398-euros-que-va-recaptar-durant-la-festa-de-la-rosa.html
CLASS:PUBLIC
END:VEVENT
END:VCALENDAR
