BEGIN:VCALENDAR
VERSION:2.0
CALSCALE:GREGORIAN
PRODID:-//Diputació de Barcelona//DibaCMS//EN
BEGIN:VEVENT
UID:6143
DTSTAMP:20260422T154635
DTSTART:20130604T000000
DTEND:20140604T000000
SUMMARY:A la venda les entrades per veure la darrera obra de Berto Romero a la Llagosta
LOCATION:
METHOD:PUBLISH
X-WR-CALNAME:llagosta@llagosta.cat
X-WR-TIMEZONE:Europe/Madrid
DESCRIPTION:Ja estan a la venda les entrades per veure l'obra Berto Romero sigue con nosotros, que protagonitzarà el popular Berto Romero el 15 de juny en el marc de la segona Setmana del Teatre de la Llagosta. Els interessats s'han d'adreçar a l'Oficina d'Atenció a la Ciutadania o al Centre Cultural i Juvenil Can Pelegrí. El preu de l'entrada anticipada és de nou euros.
URI:https://www.llagosta.cat/actualitat/noticies/a-la-venda-les-entrades-per-veure-la-darrera-obra-de-berto-romero-a-la-llagosta.html
CLASS:PUBLIC
END:VEVENT
END:VCALENDAR
