BEGIN:VCALENDAR
VERSION:2.0
CALSCALE:GREGORIAN
PRODID:-//Diputació de Barcelona//DibaCMS//EN
BEGIN:VEVENT
UID:6141
DTSTAMP:20260421T103112
DTSTART:20130603T000000
DTEND:20140603T000000
SUMMARY:El Joventut Handbol la Llagosta finalitza la temporada proclamant-se campió de lliga
LOCATION:
METHOD:PUBLISH
X-WR-CALNAME:llagosta@llagosta.cat
X-WR-TIMEZONE:Europe/Madrid
DESCRIPTION:El sènior del Joventut Handbol la Llagosta s'ha proclamat campió de Tercera Catalana. Els de la nostra localitat van vèncer ahir el Riudoms per 33 a 29 en un Complex Esportiu Municipal el Turó ple de gom a gom.
URI:https://www.llagosta.cat/actualitat/noticies/el-joventut-handbol-la-llagosta-finalitza-la-temporada-proclamant-se-campio-de-lliga.html
CLASS:PUBLIC
END:VEVENT
END:VCALENDAR
