BEGIN:VCALENDAR
VERSION:2.0
CALSCALE:GREGORIAN
PRODID:-//Diputació de Barcelona//DibaCMS//EN
BEGIN:VEVENT
UID:6140
DTSTAMP:20260421T103100
DTSTART:20130603T000000
DTEND:20140603T000000
SUMMARY:Gran participació en la dotzena Festa de l'Esport de la Llagosta celebrada el cap de setmana
LOCATION:
METHOD:PUBLISH
X-WR-CALNAME:llagosta@llagosta.cat
X-WR-TIMEZONE:Europe/Madrid
DESCRIPTION:La Llagosta va celebrar el cap de setmana la dotzena Festa de l'Esport amb diverses activitats, organitzades per l'Ajuntament i algunes entitats locals.
URI:https://www.llagosta.cat/actualitat/noticies/gran-participacio-en-la-dotzena-festa-de-lesport-de-la-llagosta-celebrada-el-cap-de-setmana.html
CLASS:PUBLIC
END:VEVENT
END:VCALENDAR
