BEGIN:VCALENDAR
VERSION:2.0
CALSCALE:GREGORIAN
PRODID:-//Diputació de Barcelona//DibaCMS//EN
BEGIN:VEVENT
UID:6139
DTSTAMP:20260422T034710
DTSTART:20130531T000000
DTEND:20140531T000000
SUMMARY:La cloenda d'activitats de l'Escola de Pares i Mares de demà s'ha suspès
LOCATION:
METHOD:PUBLISH
X-WR-CALNAME:llagosta@llagosta.cat
X-WR-TIMEZONE:Europe/Madrid
DESCRIPTION:La cloenda del curs de l'Escola de Pares i Mares programada per demà ha estat suspesa. Les poques inscripcions han fet decidir als organitzadors no realitzar aquest acte, que s'havia de fer al Centre Cultural.
URI:https://www.llagosta.cat/actualitat/noticies/la-cloenda-dactivitats-de-lescola-de-pares-i-mares-de-dema-sha-suspes.html
CLASS:PUBLIC
END:VEVENT
END:VCALENDAR
