BEGIN:VCALENDAR
VERSION:2.0
CALSCALE:GREGORIAN
PRODID:-//Diputació de Barcelona//DibaCMS//EN
BEGIN:VEVENT
UID:6138
DTSTAMP:20260421T125716
DTSTART:20130531T000000
DTEND:20140531T000000
SUMMARY:La Festa de l'Esport obre aquest cap de setmana els actes de l'Estiu 2013
LOCATION:
METHOD:PUBLISH
X-WR-CALNAME:llagosta@llagosta.cat
X-WR-TIMEZONE:Europe/Madrid
DESCRIPTION:Aquest cap de setmana se celebra a la Llagosta la Festa de l'Esport. L'Ajuntament i diverses entitats de la nostra localitat han preparat tot un seguit d'activitats que es desenvoluparan a diversos espais públics. La Festa de l'Esport servirà també per obrir la programació d'estiu de la Llagosta, que es desenvoluparà fins al mes de setembre.
URI:https://www.llagosta.cat/actualitat/noticies/la-festa-de-lesport-obre-aquest-cap-de-setmana-els-actes-de-lestiu-2013.html
CLASS:PUBLIC
END:VEVENT
END:VCALENDAR
