BEGIN:VCALENDAR
VERSION:2.0
CALSCALE:GREGORIAN
PRODID:-//Diputació de Barcelona//DibaCMS//EN
BEGIN:VEVENT
UID:6137
DTSTAMP:20260422T081737
DTSTART:20130531T000000
DTEND:20140531T000000
SUMMARY:L'Ajuntament dóna un impuls al CEM El Turó i a l'Escola Municipal de Música
LOCATION:
METHOD:PUBLISH
X-WR-CALNAME:llagosta@llagosta.cat
X-WR-TIMEZONE:Europe/Madrid
DESCRIPTION:L'Ajuntament de la Llagosta va aprovar ahir, amb les úniques abstencions del PSC i de CiU, les noves tarifes dels serveis del Complex Esportiu Municipal El Turó. Amb aquesta mesura es pretén captar més socis i aconseguir rendibilitzar zones horàries que ara tenen menys presència d'usuaris. 
URI:https://www.llagosta.cat/actualitat/noticies/lajuntament-dona-un-impuls-al-cem-el-turo-i-a-lescola-municipal-de-musica.html
CLASS:PUBLIC
END:VEVENT
END:VCALENDAR
