BEGIN:VCALENDAR
VERSION:2.0
CALSCALE:GREGORIAN
PRODID:-//Diputació de Barcelona//DibaCMS//EN
BEGIN:VEVENT
UID:6135
DTSTAMP:20260421T204542
DTSTART:20130530T000000
DTEND:20140530T000000
SUMMARY:El Vallag comptarà la propera temporada amb un nou equip de categoria infantil
LOCATION:
METHOD:PUBLISH
X-WR-CALNAME:llagosta@llagosta.cat
X-WR-TIMEZONE:Europe/Madrid
DESCRIPTION:L'Handbol Club Vallag de la Llagosta tindrà la propera temporada un equip infantil. L'entitat tindrà prou jugadors per crear un nou equip, sorgits de la reunió que van fer la setmana passada amb pares i mares d'infants interessats.
URI:https://www.llagosta.cat/actualitat/noticies/el-vallag-comptara-la-propera-temporada-amb-un-nou-equip-de-categoria-infantil.html
CLASS:PUBLIC
END:VEVENT
END:VCALENDAR
