BEGIN:VCALENDAR
VERSION:2.0
CALSCALE:GREGORIAN
PRODID:-//Diputació de Barcelona//DibaCMS//EN
BEGIN:VEVENT
UID:6134
DTSTAMP:20260421T185635
DTSTART:20130530T000000
DTEND:20140530T000000
SUMMARY:La quarta preliminar del Concurs de Cante Jondo se celebrarà dissabte
LOCATION:
METHOD:PUBLISH
X-WR-CALNAME:llagosta@llagosta.cat
X-WR-TIMEZONE:Europe/Madrid
DESCRIPTION:Dissabte, tindrà lloc la quarta i darrera preliminar del Concurs de Cante Jondo Ciutat de la Llagosta, organitzat per la Casa de Andalucía. Les actuacions començaran a les vuit del vespre i es faran a l'antic Centre Cultural del carrer de la Florida.
URI:https://www.llagosta.cat/actualitat/noticies/la-quarta-preliminar-del-concurs-de-cante-jondo-se-celebrara-dissabte.html
CLASS:PUBLIC
END:VEVENT
END:VCALENDAR
