BEGIN:VCALENDAR
VERSION:2.0
CALSCALE:GREGORIAN
PRODID:-//Diputació de Barcelona//DibaCMS//EN
BEGIN:VEVENT
UID:6133
DTSTAMP:20260423T145245
DTSTART:20130530T000000
DTEND:20140530T000000
SUMMARY:El quart Ral·li Internacional d'Autobusos Clàssics passarà per la Llagosta diumenge
LOCATION:
METHOD:PUBLISH
X-WR-CALNAME:llagosta@llagosta.cat
X-WR-TIMEZONE:Europe/Madrid
DESCRIPTION:Diumenge, passarà per la Llagosta el quart Ral·li Internacional d'Autobusos Clàssics Barcelona-Caldes. Els vehicles passaran per l'avinguda de l'Onze de Setembre al voltant d'un quart d'una.
URI:https://www.llagosta.cat/actualitat/noticies/el-quart-ralli-internacional-dautobusos-classics-passara-per-la-llagosta-diumenge.html
CLASS:PUBLIC
END:VEVENT
END:VCALENDAR
