BEGIN:VCALENDAR
VERSION:2.0
CALSCALE:GREGORIAN
PRODID:-//Diputació de Barcelona//DibaCMS//EN
BEGIN:VEVENT
UID:6132
DTSTAMP:20260421T161229
DTSTART:20130530T000000
DTEND:20140530T000000
SUMMARY:L'Ajuntament té previst aprovar avui noves tarifes per al Complex Esportiu Municipal El Turó
LOCATION:
METHOD:PUBLISH
X-WR-CALNAME:llagosta@llagosta.cat
X-WR-TIMEZONE:Europe/Madrid
DESCRIPTION:L'Ajuntament de la Llagosta aprovarà avui les noves tarifes dels serveis del Complex Esportiu Municipal El Turó durant la celebració del ple ordinari del mes de maig, que començarà a les set de la tarda. El Consistori vol adaptar els preus que es paguen al Turó a la realitat actual. 
URI:https://www.llagosta.cat/actualitat/noticies/lajuntament-te-previst-aprovar-avui-noves-tarifes-per-al-complex-esportiu-municipal-el-turo.html
CLASS:PUBLIC
END:VEVENT
END:VCALENDAR
