BEGIN:VCALENDAR
VERSION:2.0
CALSCALE:GREGORIAN
PRODID:-//Diputació de Barcelona//DibaCMS//EN
BEGIN:VEVENT
UID:6130
DTSTAMP:20260421T160255
DTSTART:20130529T000000
DTEND:20140529T000000
SUMMARY:Demà, comença la programació de l'aniversari del Casal d'Avis de la Llagosta 
LOCATION:
METHOD:PUBLISH
X-WR-CALNAME:llagosta@llagosta.cat
X-WR-TIMEZONE:Europe/Madrid
DESCRIPTION:Demà dijous, començarà la cloenda d'activitats per a persones grans i la celebració de l'aniversari del Casal d'Avis, que es perllongarà fins al 13 de juny. A partir de demà i cada dijous, fins al 13 de juny, de cinc a set de la tarda, es farà un taller que es presenta sota el títol de A cada problema la seva solució. Amb aquesta proposta es volen donar eines per aconseguir una bona qualitat de vida.
URI:https://www.llagosta.cat/actualitat/noticies/dema-comenca-la-programacio-de-laniversari-del-casal-davis-de-la-llagosta-.html
CLASS:PUBLIC
END:VEVENT
END:VCALENDAR
