BEGIN:VCALENDAR
VERSION:2.0
CALSCALE:GREGORIAN
PRODID:-//Diputació de Barcelona//DibaCMS//EN
BEGIN:VEVENT
UID:6129
DTSTAMP:20260423T125123
DTSTART:20130529T000000
DTEND:20140529T000000
SUMMARY:El CE La Llagosta prepara el seu quart campus de futbol per a aquest estiu
LOCATION:
METHOD:PUBLISH
X-WR-CALNAME:llagosta@llagosta.cat
X-WR-TIMEZONE:Europe/Madrid
DESCRIPTION:El Club Esportiu La Llagosta organitzarà aquest estiu el seu quart campus de futbol. L'activitat està adreçada a nois i noies nascuts entre l'any 2000 i el 2007. Les inscripcions es poden formalitzar al Camp Municipal de Futbol Joan Gelabert. 
URI:https://www.llagosta.cat/actualitat/noticies/el-ce-la-llagosta-prepara-el-seu-quart-campus-de-futbol-per-a-aquest-estiu.html
CLASS:PUBLIC
END:VEVENT
END:VCALENDAR
