BEGIN:VCALENDAR
VERSION:2.0
CALSCALE:GREGORIAN
PRODID:-//Diputació de Barcelona//DibaCMS//EN
BEGIN:VEVENT
UID:6127
DTSTAMP:20260421T140831
DTSTART:20130528T000000
DTEND:20140528T000000
SUMMARY:El nombre d'aturats va tornar a baixa a la Llagosta durant el mes d'abril
LOCATION:
METHOD:PUBLISH
X-WR-CALNAME:llagosta@llagosta.cat
X-WR-TIMEZONE:Europe/Madrid
DESCRIPTION:L'atur va disminuir a la Llagosta al mes d'abril en 48 persones. Aquest és el segon mes consecutiu que baixa la desocupació a la nostra localitat, després del lleu descens de cinc persones al març.
URI:https://www.llagosta.cat/actualitat/noticies/el-nombre-daturats-va-tornar-a-baixa-a-la-llagosta-durant-el-mes-dabril.html
CLASS:PUBLIC
END:VEVENT
END:VCALENDAR
