BEGIN:VCALENDAR
VERSION:2.0
CALSCALE:GREGORIAN
PRODID:-//Diputació de Barcelona//DibaCMS//EN
BEGIN:VEVENT
UID:6126
DTSTAMP:20260421T130806
DTSTART:20130528T000000
DTEND:20140528T000000
SUMMARY:Oberta la inscripció per participar a diferents tornejos esportius d'estiu a la Llagosta
LOCATION:
METHOD:PUBLISH
X-WR-CALNAME:llagosta@llagosta.cat
X-WR-TIMEZONE:Europe/Madrid
DESCRIPTION:Ja està obert el període d'inscripció per participar en diversos tornejos esportius que s'organitzaran a la nostra localitat dins de la programació d'activitats d'estiu. En concret, el Complex Esportiu Municipal El Turó ha preparat una lliga de bàsquet i una altra de futbol sala, adreçades a esportistes a partir dels setze anys, que començaran l'1 de juliol. 
URI:https://www.llagosta.cat/actualitat/noticies/oberta-la-inscripcio-per-participar-a-diferents-tornejos-esportius-destiu-a-la-llagosta.html
CLASS:PUBLIC
END:VEVENT
END:VCALENDAR
