BEGIN:VCALENDAR
VERSION:2.0
CALSCALE:GREGORIAN
PRODID:-//Diputació de Barcelona//DibaCMS//EN
BEGIN:VEVENT
UID:6125
DTSTAMP:20260421T160225
DTSTART:20130528T000000
DTEND:20140528T000000
SUMMARY:Fins dijous es poden presentar obres al Concurs de cartells de la Festa Major 2013
LOCATION:
METHOD:PUBLISH
X-WR-CALNAME:llagosta@llagosta.cat
X-WR-TIMEZONE:Europe/Madrid
DESCRIPTION:L'Ajuntament de la Llagosta manté obert fins dijous el període de presentació d'obres en el marc del concurs per escollir el cartell de la Festa Major 2013. En aquest certamen poden participar tant professionals com artistes novells majors de 16 anys. 
URI:https://www.llagosta.cat/actualitat/noticies/fins-dijous-es-poden-presentar-obres-al-concurs-de-cartells-de-la-festa-major-2013.html
CLASS:PUBLIC
END:VEVENT
END:VCALENDAR
