BEGIN:VCALENDAR
VERSION:2.0
CALSCALE:GREGORIAN
PRODID:-//Diputació de Barcelona//DibaCMS//EN
BEGIN:VEVENT
UID:6124
DTSTAMP:20260421T173709
DTSTART:20130528T000000
DTEND:20140528T000000
SUMMARY:Bona acollida de l'exposició de bonsais organitzada diumenge per Animalets
LOCATION:
METHOD:PUBLISH
X-WR-CALNAME:llagosta@llagosta.cat
X-WR-TIMEZONE:Europe/Madrid
DESCRIPTION:L'exposició de bonsais que es va realitzar diumenge a la Fundació Agrària i Cultural va tenir una molt bona acollida per part del públic. La mostra va rebre una visita constant de persones que van voler veure les obres realitzades pels alumnes dels cursos de bonsais que organitza Animalets, l'Associació protectora d'animals i plantes de la Llagosta.
URI:https://www.llagosta.cat/actualitat/noticies/bona-acollida-de-lexposicio-de-bonsais-organitzada-diumenge-per-animalets.html
CLASS:PUBLIC
END:VEVENT
END:VCALENDAR
