BEGIN:VCALENDAR
VERSION:2.0
CALSCALE:GREGORIAN
PRODID:-//Diputació de Barcelona//DibaCMS//EN
BEGIN:VEVENT
UID:6123
DTSTAMP:20260421T161207
DTSTART:20130528T000000
DTEND:20140528T000000
SUMMARY:El Viejas Glorias perd a casa contra el líder, el Lares, i posa fi a la seva bona ratxa
LOCATION:
METHOD:PUBLISH
X-WR-CALNAME:llagosta@llagosta.cat
X-WR-TIMEZONE:Europe/Madrid
DESCRIPTION:El Club Deportivo Viejas Glorias va perdre dissabte contra el líder, el Lares, per 2 a 4, i va posar fi a una ratxa de quatre victòries seguides. Els de la nostra localitat van plantar cara al Lares, sobretot a la primera part.
URI:https://www.llagosta.cat/actualitat/noticies/el-viejas-glorias-perd-a-casa-contra-el-lider-el-lares-i-posa-fi-a-la-seva-bona-ratxa.html
CLASS:PUBLIC
END:VEVENT
END:VCALENDAR
