BEGIN:VCALENDAR
VERSION:2.0
CALSCALE:GREGORIAN
PRODID:-//Diputació de Barcelona//DibaCMS//EN
BEGIN:VEVENT
UID:6121
DTSTAMP:20260421T104942
DTSTART:20130527T000000
DTEND:20140527T000000
SUMMARY:El Parc Popular va acollir dissabte la primera Festa de la Rosa del PSC de la Llagosta
LOCATION:
METHOD:PUBLISH
X-WR-CALNAME:llagosta@llagosta.cat
X-WR-TIMEZONE:Europe/Madrid
DESCRIPTION:La primera Festa de la Rosa organitzada pel Partit del Socialistes de Catalunya a la Llagosta es va desenvolupar dissabte al Parc Popular. Durant l'acte, van intervenir el primer secretari local dels socialistes, Antonio Rísquez, que va fer un balanç de la política local, i l'alcaldessa de Santa Coloma de Gramenet i diputada al Parlament de Catalunya, Núria Parlon. 
URI:https://www.llagosta.cat/actualitat/noticies/el-parc-popular-va-acollir-dissabte-la-primera-festa-de-la-rosa-del-psc-de-la-llagosta.html
CLASS:PUBLIC
END:VEVENT
END:VCALENDAR
