BEGIN:VCALENDAR
VERSION:2.0
CALSCALE:GREGORIAN
PRODID:-//Diputació de Barcelona//DibaCMS//EN
BEGIN:VEVENT
UID:6120
DTSTAMP:20260421T210346
DTSTART:20130527T000000
DTEND:20140527T000000
SUMMARY:Des d'avui i fins al 12 de juny l'Aula d'Estudi de Can Pelegrí amplia el seu horari
LOCATION:
METHOD:PUBLISH
X-WR-CALNAME:llagosta@llagosta.cat
X-WR-TIMEZONE:Europe/Madrid
DESCRIPTION:L'Aula d'Estudi de Can Pelegrí amplia el seu horari d'obertura fins al 12 de juny, coincidint amb l'època d'exàmens. D'aquesta manera, els estudiants de la nostra localitat poden disposar novament d’aquest espai durant més hores.
URI:https://www.llagosta.cat/actualitat/noticies/des-davui-i-fins-al-12-de-juny-laula-destudi-de-can-pelegri-amplia-el-seu-horari.html
CLASS:PUBLIC
END:VEVENT
END:VCALENDAR
