BEGIN:VCALENDAR
VERSION:2.0
CALSCALE:GREGORIAN
PRODID:-//Diputació de Barcelona//DibaCMS//EN
BEGIN:VEVENT
UID:6119
DTSTAMP:20260421T160146
DTSTART:20130527T000000
DTEND:20140527T000000
SUMMARY:L'Escola Sagrada Família va celebrar dissabte el seu 50è aniversari amb una festa
LOCATION:
METHOD:PUBLISH
X-WR-CALNAME:llagosta@llagosta.cat
X-WR-TIMEZONE:Europe/Madrid
DESCRIPTION:L'Escola SAFA va celebrar dissabte el seu cinquantè aniversari. Al llarg de tot el matí, van passar pel pati nord del col·legi un bon nombre de persones tant vinculades al centre com veïns de la nostra població. El centre es va posar en marxa el curs 1962-1963. 
URI:https://www.llagosta.cat/actualitat/noticies/lescola-sagrada-familia-va-celebrar-dissabte-el-seu-50e-aniversari-amb-una-festa.html
CLASS:PUBLIC
END:VEVENT
END:VCALENDAR
