BEGIN:VCALENDAR
VERSION:2.0
CALSCALE:GREGORIAN
PRODID:-//Diputació de Barcelona//DibaCMS//EN
BEGIN:VEVENT
UID:6118
DTSTAMP:20260419T140431
DTSTART:20130524T000000
DTEND:20140524T000000
SUMMARY:L'Escola Sagrada Família celebrarà demà amb una festa els seus 50 anys de vida
LOCATION:
METHOD:PUBLISH
X-WR-CALNAME:llagosta@llagosta.cat
X-WR-TIMEZONE:Europe/Madrid
DESCRIPTION:L'Escola SAFA celebrarà demà el seu cinquantè aniversari amb una festa oberta a tota la població. La commemoració començarà a dos quarts de deu del matí.
La festa s'iniciarà amb una xocolatada. 
URI:https://www.llagosta.cat/actualitat/noticies/lescola-sagrada-familia-celebrara-dema-amb-una-festa-els-seus-50-anys-de-vida.html
CLASS:PUBLIC
END:VEVENT
END:VCALENDAR
