BEGIN:VCALENDAR
VERSION:2.0
CALSCALE:GREGORIAN
PRODID:-//Diputació de Barcelona//DibaCMS//EN
BEGIN:VEVENT
UID:6117
DTSTAMP:20260422T235619
DTSTART:20130524T000000
DTEND:20140524T000000
SUMMARY:El PSC de la Llagosta organitza demà la seva primera Festa de la Rosa al Parc Popular
LOCATION:
METHOD:PUBLISH
X-WR-CALNAME:llagosta@llagosta.cat
X-WR-TIMEZONE:Europe/Madrid
DESCRIPTION:El Partit del Socialistes de Catalunya a la Llagosta organitzarà demà la Festa de la Rosa. La celebració tindrà lloc al Parc Popular a partir de les onze del matí. Els socialistes llagostencs plantegen la Festa de la Rosa com acte de germanor i de convivència obert a tota la població. 
URI:https://www.llagosta.cat/actualitat/noticies/el-psc-de-la-llagosta-organitza-dema-la-seva-primera-festa-de-la-rosa-al-parc-popular.html
CLASS:PUBLIC
END:VEVENT
END:VCALENDAR
