BEGIN:VCALENDAR
VERSION:2.0
CALSCALE:GREGORIAN
PRODID:-//Diputació de Barcelona//DibaCMS//EN
BEGIN:VEVENT
UID:6116
DTSTAMP:20260421T223600
DTSTART:20130524T000000
DTEND:20140524T000000
SUMMARY:L'AMPA de l'Escola Gilpe fa demà el tercer Torneig d'Escacs al Centre Cultural
LOCATION:
METHOD:PUBLISH
X-WR-CALNAME:llagosta@llagosta.cat
X-WR-TIMEZONE:Europe/Madrid
DESCRIPTION:L'AMPA de l'Escola Gilpe organitzarà demà al tercer Torneig d'Escacs. L'activitat es desenvoluparà a partir de dos quarts de cinc de la tarda al Centre Cultural. Fins al moment, uns 60 infants i joves s'han inscrit per participar en aquesta competició.
URI:https://www.llagosta.cat/actualitat/noticies/lampa-de-lescola-gilpe-fa-dema-el-tercer-torneig-descacs-al-centre-cultural.html
CLASS:PUBLIC
END:VEVENT
END:VCALENDAR
