BEGIN:VCALENDAR
VERSION:2.0
CALSCALE:GREGORIAN
PRODID:-//Diputació de Barcelona//DibaCMS//EN
BEGIN:VEVENT
UID:6115
DTSTAMP:20260422T042034
DTSTART:20130524T000000
DTEND:20140524T000000
SUMMARY:El Casal Popular La República de la Llagosta farà demà la reinauguració de la seva seu
LOCATION:
METHOD:PUBLISH
X-WR-CALNAME:llagosta@llagosta.cat
X-WR-TIMEZONE:Europe/Madrid
DESCRIPTION:El Casal Popular La República de la Llagosta farà demà un acte de reinauguració de la seva seu, situada al número 3 de la plaça de Pere IV. A les set de la tarda, es realitzarà una xerrada debat amb el nom Los Borbones a los tiburones. El ponent serà Luis Fernández, llicenciat en Història. Tot seguit hi haurà les actuacions de Dj Toni, punk-rock clàssic, i Dj Lele, amb punk-rock, rock i ska-reggae. L'acte està obert a tota la població.
URI:https://www.llagosta.cat/actualitat/noticies/el-casal-popular-la-republica-de-la-llagosta-fara-dema-la-reinauguracio-de-la-seva-seu.html
CLASS:PUBLIC
END:VEVENT
END:VCALENDAR
